BEGIN:VCALENDAR
VERSION:2.0
CALSCALE:GREGORIAN
PRODID:adamgibbons/ics
METHOD:PUBLISH
X-PUBLISHED-TTL:PT1H
BEGIN:VEVENT
UID:6272@gancio.cisti.org
SUMMARY:Reclaim The Theatre - The Nerve. Il Cabaret Queer di Torino
DTSTAMP:20260419T163530Z
DTSTART:20260516T190000Z
DTEND:20260516T215500Z
URL:https://gancio.cisti.org/event/reclaim-the-theatre-the-nerve-il-cabaret
	-queer-di-torino
GEO:45.05913645;7.64905084663742
LOCATION:Csoa Gabrio - Via Millio 42\, Torino
STATUS:CONFIRMED
CATEGORIES:reclaim the theatre,Spettacolo teatrale
END:VEVENT
BEGIN:VEVENT
UID:6273@gancio.cisti.org
SUMMARY:Reclaim The Theatre - Fraciche D'asporto. Queer Commedy Show
DTSTAMP:20260419T163530Z
DTSTART:20260523T190000Z
DTEND:20260523T215500Z
URL:https://gancio.cisti.org/event/reclaim-the-theatre-fraciche-dasporto-qu
	eer-commedy-show
GEO:45.05913645;7.64905084663742
LOCATION:Csoa Gabrio - Via Millio 42\, Torino
STATUS:CONFIRMED
CATEGORIES:reclaim the theatre,Spettacolo teatrale
END:VEVENT
END:VCALENDAR
